BEGIN:VCALENDAR
VERSION:2.0
PRODID:-//eventon.com NONSGML v1.0//EN
CALSCALE:GREGORIAN
METHOD:PUBLISH
BEGIN:VEVENT
UID:69eb3d501b5e1
DTSTAMP:20260424T095216Z
DTSTART:20180412
DTEND:20180413
LOCATION:Gazi Üniversitesi Edebiyat Fakültesi Emniyet Mahallesi\,  06500 Yenimahalle/Ankara
SUMMARY:5. Adli Psikoloji Kongresi
DESCRIPTION:Gazi üniversitesi ve Adli Bilimciler Derneği iş birliği ile
  12-13 Nisan 2018’de 5. Adli Psikoloji\,  1. Adli Felsefe\,  1. Adli Sosy
 oloji Kongresi yapılacaktır.\nhttps://www.adlitip.net/events/15-adli-bili
 mler-kongresi-2/
URL:https://www.adlitip.net/events/15-adli-bilimler-kongresi-2/
END:VEVENT
END:VCALENDAR