BEGIN:VCALENDAR
VERSION:2.0
PRODID:-//eventon.com NONSGML v1.0//EN
CALSCALE:GREGORIAN
METHOD:PUBLISH
BEGIN:VEVENT
UID:69ed1e03dd575
DTSTAMP:20260425T200315Z
DTSTART:20180412
DTEND:20180413
LOCATION:Paloma Foresta Resort &amp; SPA Göynük Mahallesi\,  Beldibi Mahallesi\,  Başkomutan Atatürk Caddesi No: 143/1\,  07985 Kemer/Antalya\,  Turkey
SUMMARY:15. Adli Bilimler Kongresi
DESCRIPTION:Adli Tıp Uzmanları Derneği (ATUD) tarafından geleneksel ola
 rak her yıl düzenlenen Adli Bilimler Kongresinin 15. 12-15 Nisan 2018 tar
 ihleri arasında Beldibi\,  Antalya’da düzenlenecektir.\nhttps://www.adl
 itip.net/events/15-adli-bilimler-kongresi/
URL:https://www.adlitip.net/events/15-adli-bilimler-kongresi/
END:VEVENT
END:VCALENDAR